BEGIN:VCALENDAR
VERSION:2.0
PRODID:-//University of Orange - ECPv5.14.1//NONSGML v1.0//EN
CALSCALE:GREGORIAN
METHOD:PUBLISH
X-WR-CALNAME:University of Orange
X-ORIGINAL-URL:https://universityoforange.org
X-WR-CALDESC:Events for University of Orange
REFRESH-INTERVAL;VALUE=DURATION:PT1H
X-Robots-Tag:noindex
X-PUBLISHED-TTL:PT1H
BEGIN:VTIMEZONE
TZID:America/New_York
BEGIN:DAYLIGHT
TZOFFSETFROM:-0500
TZOFFSETTO:-0400
TZNAME:EDT
DTSTART:20230312T070000
END:DAYLIGHT
BEGIN:STANDARD
TZOFFSETFROM:-0400
TZOFFSETTO:-0500
TZNAME:EST
DTSTART:20231105T060000
END:STANDARD
END:VTIMEZONE
BEGIN:VEVENT
DTSTART;TZID=America/New_York:20230322T173000
DTEND;TZID=America/New_York:20230322T193000
DTSTAMP:20260424T035954
CREATED:20230220T193348Z
LAST-MODIFIED:20230220T193348Z
UID:4216-1679506200-1679513400@universityoforange.org
SUMMARY:March Solidarity Potluck
DESCRIPTION:Wednesday March 22nd is our second potluck of the year at 35 Cleveland Street. Bring a dish to share and a friend! We will have a firepit outside (dress warmly!) and masks are required inside. \n \nWe encourage everyone join us in our “Healthy HUUB” policy\, and test for Covid before and after attending\, stay home if you are sick\, and please let The HUUB or University of Orange know if you test positive after the event.
URL:https://universityoforange.org/event/march-solidarity-potluck
LOCATION:35 Cleveland St\, 35 Cleveland Street\, City of Orange\, NJ\, 07050\, United States
CATEGORIES:In Orange
ATTACH;FMTTYPE=image/png:https://universityoforange.org/wp-content/uploads/2023/02/St-Patricks-Day-and-womens-day-potluck-of-gold.png
END:VEVENT
END:VCALENDAR