BEGIN:VCALENDAR
VERSION:2.0
PRODID:-//University of Orange - ECPv5.14.1//NONSGML v1.0//EN
CALSCALE:GREGORIAN
METHOD:PUBLISH
X-WR-CALNAME:University of Orange
X-ORIGINAL-URL:https://universityoforange.org
X-WR-CALDESC:Events for University of Orange
REFRESH-INTERVAL;VALUE=DURATION:PT1H
X-Robots-Tag:noindex
X-PUBLISHED-TTL:PT1H
BEGIN:VTIMEZONE
TZID:America/New_York
BEGIN:DAYLIGHT
TZOFFSETFROM:-0500
TZOFFSETTO:-0400
TZNAME:EDT
DTSTART:20230312T070000
END:DAYLIGHT
BEGIN:STANDARD
TZOFFSETFROM:-0400
TZOFFSETTO:-0500
TZNAME:EST
DTSTART:20231105T060000
END:STANDARD
END:VTIMEZONE
BEGIN:VEVENT
DTSTART;TZID=America/New_York:20230503T180000
DTEND;TZID=America/New_York:20230503T190000
DTSTAMP:20260419T095342
CREATED:20230426T204340Z
LAST-MODIFIED:20230426T204340Z
UID:4266-1683136800-1683140400@universityoforange.org
SUMMARY:Planning to Stay Teach In: Strengthening Rent Control 
DESCRIPTION:Planning to Stay Teach In: Strengthening Rent Control  \nWednesday May 3rd 2023 6PM-7PM EST on zoom  \nA team from Rutgers Law Housing Rights and Tenant Solidarity Clinic will present their research and analysis of Orange’s current Residential Rent Control laws and possibilities for new legislation on Commercial Rent Control. They will share how we can strengthen laws and advocate for an affordable future in our city!  \n  \nZoom link:        https://us02web.zoom.us/meeting/register/tZ0rfuqgrD0iGN0sEj76D8iYUbSjhSFQpEhN     
URL:https://universityoforange.org/event/planning-to-stay-teach-in-strengthening-rent-control
LOCATION:Online
CATEGORIES:In Orange
ATTACH;FMTTYPE=image/png:https://universityoforange.org/wp-content/uploads/2023/04/Screen-Shot-2023-04-26-at-4.43.25-PM.png
END:VEVENT
END:VCALENDAR