BEGIN:VCALENDAR
VERSION:2.0
PRODID:-//University of Orange - ECPv5.14.1//NONSGML v1.0//EN
CALSCALE:GREGORIAN
METHOD:PUBLISH
X-WR-CALNAME:University of Orange
X-ORIGINAL-URL:https://universityoforange.org
X-WR-CALDESC:Events for University of Orange
REFRESH-INTERVAL;VALUE=DURATION:PT1H
X-Robots-Tag:noindex
X-PUBLISHED-TTL:PT1H
BEGIN:VTIMEZONE
TZID:America/New_York
BEGIN:DAYLIGHT
TZOFFSETFROM:-0500
TZOFFSETTO:-0400
TZNAME:EDT
DTSTART:20230312T070000
END:DAYLIGHT
BEGIN:STANDARD
TZOFFSETFROM:-0400
TZOFFSETTO:-0500
TZNAME:EST
DTSTART:20231105T060000
END:STANDARD
END:VTIMEZONE
BEGIN:VEVENT
DTSTART;TZID=America/New_York:20230509T150000
DTEND;TZID=America/New_York:20230509T163000
DTSTAMP:20260419T082415
CREATED:20230425T172258Z
LAST-MODIFIED:20230425T180242Z
UID:4261-1683644400-1683649800@universityoforange.org
SUMMARY:MCF: Slide Hampton Tribute
DESCRIPTION:Join us on May 9th 3-4:30PM to honor internationally renowned jazz trombonist\, arranger\, and composer Slide Hampton at the site of his former home\, 105 Wilson Place\, Orange NJ. The City of Orange will display a “Heroes of Orange” banner in Slide’s memory\, and an 8-trombone Slide Hampton Tribute Ensemble will perform. \nMusicians featured include: \nTROMBONES\nRob Edwards\nJason Jackson\nSteve Turre\nRobin Eubanks\nClarence Banks\nPeter Lin\nDoug Purviance\nMax Seigel \nPIANO\nMigiwa Miyajima \nBASS\nTom DiCarlo \nDRUMS\nJerome Jennings \nSPECIAL GUEST\nFrank Basile – bari sax \nThanks to the Aaron Copland Fund for financial support for this event.
URL:https://universityoforange.org/event/mcf-slide-hampton-tribute
LOCATION:105 Wilson Place\, Orange\, NJ 07050\, 105 Wilson Place\, Orange\, NJ\, 07050\, United States
CATEGORIES:In Orange,Music City
ATTACH;FMTTYPE=image/png:https://universityoforange.org/wp-content/uploads/2023/04/Music-City-Festival_2023-ig-02.png
END:VEVENT
END:VCALENDAR