BEGIN:VCALENDAR
VERSION:2.0
PRODID:-//University of Orange - ECPv5.14.1//NONSGML v1.0//EN
CALSCALE:GREGORIAN
METHOD:PUBLISH
X-WR-CALNAME:University of Orange
X-ORIGINAL-URL:https://universityoforange.org
X-WR-CALDESC:Events for University of Orange
REFRESH-INTERVAL;VALUE=DURATION:PT1H
X-Robots-Tag:noindex
X-PUBLISHED-TTL:PT1H
BEGIN:VTIMEZONE
TZID:America/New_York
BEGIN:DAYLIGHT
TZOFFSETFROM:-0500
TZOFFSETTO:-0400
TZNAME:EDT
DTSTART:20230312T070000
END:DAYLIGHT
BEGIN:STANDARD
TZOFFSETFROM:-0400
TZOFFSETTO:-0500
TZNAME:EST
DTSTART:20231105T060000
END:STANDARD
END:VTIMEZONE
BEGIN:VEVENT
DTSTART;VALUE=DATE:20230512
DTEND;VALUE=DATE:20230515
DTSTAMP:20260419T082323
CREATED:20230220T193752Z
LAST-MODIFIED:20230425T170013Z
UID:4219-1683849600-1684108799@universityoforange.org
SUMMARY:Music City Festival
DESCRIPTION:University of Orange announces the 7th Annual Music City Festival in Orange\, NJ –  MUSIC CITY FESTIVAL: LIVING FOR THE CITY! will take place on May 12th\, 13th\, and 14th with a special pre-festival event on May 9th. \nOn May 9th\, we celebrate the life and legacy of Slide Hampton\, who lived at 105 Wilson Place in Orange for the last 25 years of his life before his passing in 2021. A “Heroes of Orange” banner for Slide will be unveiled and a Slide Hampton 8-trombone tribute ensemble will perform. \nMay 12th\, 13th\, and 14th will feature over 20 performances from local and regional artists\, including a 75-minute Stevie Wonder tribute performance for Stevie’s birthday on Saturday May 13th\, an after party on Friday May 12th at Southern Komfort\, and an 8 piece Uruguayan dance band on Sunday May 14th. More details on line up click here. \nVenues this year include the Walter G Alexander Village (105 Wilson Place) on Tuesday May 9th\, Sarrah’s Cafe Trinbago and Southern Komfort Bar & Grill (Central Avenue and Scotland Road) on Friday May 12th\, Inner City Cafe and Mister Taco (South Essex Avenue) on Saturday May 13th\, and Hat City Kitchen (Valley Street) on May 14th. \nThanks to our lead sponsors DAAB Kids\,  NAACP of the Oranges & Maplewood\, The Alpert Group\, M&T Bank\, and our co-sponsors Missing Link Music\, HANDS Inc.\, and Four City Brewing Company.
URL:https://universityoforange.org/event/music-city-festival
LOCATION:NJ
CATEGORIES:In Orange,Music City
ATTACH;FMTTYPE=image/png:https://universityoforange.org/wp-content/uploads/2023/04/Screen-Shot-2023-04-25-at-12.52.08-PM.png
END:VEVENT
END:VCALENDAR