BEGIN:VCALENDAR
VERSION:2.0
PRODID:-//University of Orange - ECPv5.14.1//NONSGML v1.0//EN
CALSCALE:GREGORIAN
METHOD:PUBLISH
X-WR-CALNAME:University of Orange
X-ORIGINAL-URL:https://universityoforange.org
X-WR-CALDESC:Events for University of Orange
REFRESH-INTERVAL;VALUE=DURATION:PT1H
X-Robots-Tag:noindex
X-PUBLISHED-TTL:PT1H
BEGIN:VTIMEZONE
TZID:America/New_York
BEGIN:DAYLIGHT
TZOFFSETFROM:-0500
TZOFFSETTO:-0400
TZNAME:EDT
DTSTART:20230312T070000
END:DAYLIGHT
BEGIN:STANDARD
TZOFFSETFROM:-0400
TZOFFSETTO:-0500
TZNAME:EST
DTSTART:20231105T060000
END:STANDARD
END:VTIMEZONE
BEGIN:VEVENT
DTSTART;TZID=America/New_York:20230517T180000
DTEND;TZID=America/New_York:20230517T193000
DTSTAMP:20260419T082300
CREATED:20230425T171339Z
LAST-MODIFIED:20230425T171339Z
UID:4255-1684346400-1684351800@universityoforange.org
SUMMARY:May Solidarity Potluck
DESCRIPTION:Wednesday May 17th is our May monthly solidarity potluck at 35 Cleveland Street. Bring a dish to share and a friend!\n \nWe encourage everyone join us in our “Healthy HUUB” policy\, bring a mask to wear indoors\, test for Covid before and after attending\, stay home if you are sick\, and please let The HUUB or University of Orange know if you test positive after the event.
URL:https://universityoforange.org/event/may-solidarity-potluck
LOCATION:33 Cleveland Street\, Orange\, NJ 07050\, 33 Cleveland Street\, Orange\, NJ\, 07050\, United States
CATEGORIES:In Orange
ATTACH;FMTTYPE=image/jpeg:https://universityoforange.org/wp-content/uploads/2022/11/55cef4aa-d28d-bc34-90e6-6ec2e3d972c9.jpg
END:VEVENT
END:VCALENDAR