BEGIN:VCALENDAR
VERSION:2.0
PRODID:-//University of Orange - ECPv5.14.1//NONSGML v1.0//EN
CALSCALE:GREGORIAN
METHOD:PUBLISH
X-WR-CALNAME:University of Orange
X-ORIGINAL-URL:https://universityoforange.org
X-WR-CALDESC:Events for University of Orange
REFRESH-INTERVAL;VALUE=DURATION:PT1H
X-Robots-Tag:noindex
X-PUBLISHED-TTL:PT1H
BEGIN:VTIMEZONE
TZID:America/New_York
BEGIN:DAYLIGHT
TZOFFSETFROM:-0500
TZOFFSETTO:-0400
TZNAME:EDT
DTSTART:20260308T070000
END:DAYLIGHT
BEGIN:STANDARD
TZOFFSETFROM:-0400
TZOFFSETTO:-0500
TZNAME:EST
DTSTART:20261101T060000
END:STANDARD
END:VTIMEZONE
BEGIN:VEVENT
DTSTART;TZID=America/New_York:20260403T183000
DTEND;TZID=America/New_York:20260403T203000
DTSTAMP:20260421T015749
CREATED:20260327T174453Z
LAST-MODIFIED:20260327T174626Z
UID:5599-1775241000-1775248200@universityoforange.org
SUMMARY:The Dr. Flava 4Tet
DESCRIPTION:The Dr. Flava 4Tet\nFriday\, April 3rd\nDoors 6:45\, Concert at 7pm \nAt The HUUB\n35 Cleveland Street\, Orange\, NJ \nSponsored by UofO Music City and the Musicians’ Union \nfeat. Bob Rodriguez\, Jesus Salinas\, Russ Dibona\, Ray Johnston (Dr. Flava)
URL:https://universityoforange.org/event/the-dr-flava-4tet
LOCATION:The HUUB\, inc\, 35 Cleveland Street\, City of Orange\, NJ\, 07050\, United States
CATEGORIES:In Orange,Music City
ATTACH;FMTTYPE=image/png:https://universityoforange.org/wp-content/uploads/2026/03/Screenshot-2026-03-27-at-1.42.22 PM.png
END:VEVENT
END:VCALENDAR