BEGIN:VCALENDAR
VERSION:2.0
PRODID:-//University of Orange - ECPv5.14.1//NONSGML v1.0//EN
CALSCALE:GREGORIAN
METHOD:PUBLISH
X-WR-CALNAME:University of Orange
X-ORIGINAL-URL:https://universityoforange.org
X-WR-CALDESC:Events for University of Orange
REFRESH-INTERVAL;VALUE=DURATION:PT1H
X-Robots-Tag:noindex
X-PUBLISHED-TTL:PT1H
BEGIN:VTIMEZONE
TZID:America/New_York
BEGIN:DAYLIGHT
TZOFFSETFROM:-0500
TZOFFSETTO:-0400
TZNAME:EDT
DTSTART:20260308T070000
END:DAYLIGHT
BEGIN:STANDARD
TZOFFSETFROM:-0400
TZOFFSETTO:-0500
TZNAME:EST
DTSTART:20261101T060000
END:STANDARD
END:VTIMEZONE
BEGIN:VEVENT
DTSTART;TZID=America/New_York:20260406T180000
DTEND;TZID=America/New_York:20260406T200000
DTSTAMP:20260421T013002
CREATED:20260226T214544Z
LAST-MODIFIED:20260313T183108Z
UID:5572-1775498400-1775505600@universityoforange.org
SUMMARY:Community Seder Potluck
DESCRIPTION:Join us on Monday\, April 6th for our annual Community Seder Potluck! \nIn partnership with the HUUB and Faith + Works UU we will celebrate Passover\, springtime\, and liberation. We will snack on the Seder plate foods\, sing songs\, read from our Haggadah\, and enjoy a meal together. \nWe hope you will join us! 6pm at The HUUB\, 35 Cleveland Street\, Orange\, NJ. \nHere is our Seder Sign-Up sheet – help us gather our Seder plate items or bring a dish to share! \nSave the date for more upcoming potlucks: \n– Monday\, May 18th @ 6pm \n– Monday\, June 15th @6pm (UofO Graduation)
URL:https://universityoforange.org/event/community-seder-potluck
LOCATION:35 Cleveland St\, 35 Cleveland Street\, City of Orange\, NJ\, 07050\, United States
CATEGORIES:Collective Recovery,Cooking Gathering,In Orange
ATTACH;FMTTYPE=image/png:https://universityoforange.org/wp-content/uploads/2025/01/Community-Seder.png
END:VEVENT
END:VCALENDAR