BEGIN:VCALENDAR
VERSION:2.0
PRODID:-//University of Orange - ECPv5.14.1//NONSGML v1.0//EN
CALSCALE:GREGORIAN
METHOD:PUBLISH
X-WR-CALNAME:University of Orange
X-ORIGINAL-URL:https://universityoforange.org
X-WR-CALDESC:Events for University of Orange
REFRESH-INTERVAL;VALUE=DURATION:PT1H
X-Robots-Tag:noindex
X-PUBLISHED-TTL:PT1H
BEGIN:VTIMEZONE
TZID:America/New_York
BEGIN:DAYLIGHT
TZOFFSETFROM:-0500
TZOFFSETTO:-0400
TZNAME:EDT
DTSTART:20260308T070000
END:DAYLIGHT
BEGIN:STANDARD
TZOFFSETFROM:-0400
TZOFFSETTO:-0500
TZNAME:EST
DTSTART:20261101T060000
END:STANDARD
END:VTIMEZONE
BEGIN:VEVENT
DTSTART;TZID=America/New_York:20260304T110000
DTEND;TZID=America/New_York:20260304T123000
DTSTAMP:20260421T120146
CREATED:20260113T152437Z
LAST-MODIFIED:20260116T213824Z
UID:5474-1772622000-1772627400@universityoforange.org
SUMMARY:What's the Story? Memoir Writing Class - Winter 2026
DESCRIPTION:10-week virtual memoir class offered by UofO\, taught by developmental editor Susan Hasho \nThe class is held on Wednesdays 11:00am to 12:15pm on Zoom\, and will run January 21\, 2026 – March 25\, 2026. \nWhat’s the Story? A Memoir Writing Class \nDo you have some stories you’d like to tell? There may be stories about your life that you want to tell your children or grandchildren\, perhaps about another country or culture you came from or your parents came from. Was there an experience that changed your life or your neighborhood? How about if you were in the military and you want to share something about that? If you have a desire to share or describe anything that you are fascinated by\, care about or even want to change\, this class is a place to do that.\n \nFormat \nWhat’s the Story is a 10-week writing class that intends to provoke\, free and guide anyone to write a memoir that reflects their own unique voice and life experience. This is a workshop-style interactive course. Participants will take turns sharing their work and have opportunities to receive feedback and guidance from the instructor and the other participants. There is also time to discuss technical skills\, confront creative blocks\, and set writing goals. All writing is done outside of class at your own pace. \nLike all UofO events\, this class is offered for free\, but your tax-deductible donation goes a long way to cover the costs of delivering the course. \n**If you are interested in joining this class\, please email us at info@universityoforange.org to join the waitlist.** \nSusan Hasho is a developmental editor which is an editor involved in the mysterious process of enabling writers and anyone interested in writing to find their way through the maze of expectations\, judgment and even fear to find the true heart of what they want to write. She has trained and worked as an actor and writer\, and moved into the advertising field to work as a copy editor for advertising agencies and Fortune 500 companies. She began working with writers several years ago as an editor and it became her goal to teach a writing class that would enable people to be as free of self-criticism and inhibiting expectations as possible in order to write clearly and openly with joy.
URL:https://universityoforange.org/event/whats-the-story-memoir-writing-class-winter-2026/2026-03-04
LOCATION:Online
CATEGORIES:Collective Recovery,Maggie Ink/Bookbuilder Press
ATTACH;FMTTYPE=image/jpeg:https://universityoforange.org/wp-content/uploads/2022/08/42a483fb9320f1ce56f4d5890fdfae7f-3Bg1nT.tmp_.jpg
END:VEVENT
BEGIN:VEVENT
DTSTART;TZID=America/New_York:20260309T183000
DTEND;TZID=America/New_York:20260309T203000
DTSTAMP:20260421T120146
CREATED:20260113T214434Z
LAST-MODIFIED:20260226T213410Z
UID:5491-1773081000-1773088200@universityoforange.org
SUMMARY:Community Iftar Potluck
DESCRIPTION:Join us on Monday\, March 9th for our annual Community Iftar Potluck! \nIftar is the fast-breaking evening meal during the month of Ramadan. Everyone is welcome to join\, whether you are observing the fast or not. Bring a friend and bring a dish to share (no pork or alcohol for that day). \nPlease note we begin gathering a little later than usual – 6:30PM – and will start our meal at 7PM. \nWe’re excited to co-host this Iftar with The HUUB\, and the FAITH+WORKS UU Congregation of Orange\, and the Palestinian Youth Movement NJ Chapter. \n  \nSave the date for more solidarity potlucks at the HUUB! \n\nMonday\, April 6th: Community Seder\nMonday\, May 18th\nMonday\, June 15th: UofO Graduation\n\nPotlucks meet from 6pm-8pm at the HUUB\, 35 Cleveland Street.
URL:https://universityoforange.org/event/spring-solidarity-potlucks-2026-03-09
LOCATION:The HUUB\, inc\, 35 Cleveland Street\, City of Orange\, NJ\, 07050\, United States
CATEGORIES:Collective Recovery,Cooking Gathering,In Orange
ATTACH;FMTTYPE=image/jpeg:https://universityoforange.org/wp-content/uploads/2026/01/signal-2026-02-20-145712.jpeg
END:VEVENT
BEGIN:VEVENT
DTSTART;TZID=America/New_York:20260311T110000
DTEND;TZID=America/New_York:20260311T123000
DTSTAMP:20260421T120146
CREATED:20260113T152437Z
LAST-MODIFIED:20260116T213825Z
UID:5475-1773226800-1773232200@universityoforange.org
SUMMARY:What's the Story? Memoir Writing Class - Winter 2026
DESCRIPTION:10-week virtual memoir class offered by UofO\, taught by developmental editor Susan Hasho \nThe class is held on Wednesdays 11:00am to 12:15pm on Zoom\, and will run January 21\, 2026 – March 25\, 2026. \nWhat’s the Story? A Memoir Writing Class \nDo you have some stories you’d like to tell? There may be stories about your life that you want to tell your children or grandchildren\, perhaps about another country or culture you came from or your parents came from. Was there an experience that changed your life or your neighborhood? How about if you were in the military and you want to share something about that? If you have a desire to share or describe anything that you are fascinated by\, care about or even want to change\, this class is a place to do that.\n \nFormat \nWhat’s the Story is a 10-week writing class that intends to provoke\, free and guide anyone to write a memoir that reflects their own unique voice and life experience. This is a workshop-style interactive course. Participants will take turns sharing their work and have opportunities to receive feedback and guidance from the instructor and the other participants. There is also time to discuss technical skills\, confront creative blocks\, and set writing goals. All writing is done outside of class at your own pace. \nLike all UofO events\, this class is offered for free\, but your tax-deductible donation goes a long way to cover the costs of delivering the course. \n**If you are interested in joining this class\, please email us at info@universityoforange.org to join the waitlist.** \nSusan Hasho is a developmental editor which is an editor involved in the mysterious process of enabling writers and anyone interested in writing to find their way through the maze of expectations\, judgment and even fear to find the true heart of what they want to write. She has trained and worked as an actor and writer\, and moved into the advertising field to work as a copy editor for advertising agencies and Fortune 500 companies. She began working with writers several years ago as an editor and it became her goal to teach a writing class that would enable people to be as free of self-criticism and inhibiting expectations as possible in order to write clearly and openly with joy.
URL:https://universityoforange.org/event/whats-the-story-memoir-writing-class-winter-2026/2026-03-11
LOCATION:Online
CATEGORIES:Collective Recovery,Maggie Ink/Bookbuilder Press
ATTACH;FMTTYPE=image/jpeg:https://universityoforange.org/wp-content/uploads/2022/08/42a483fb9320f1ce56f4d5890fdfae7f-3Bg1nT.tmp_.jpg
END:VEVENT
BEGIN:VEVENT
DTSTART;TZID=America/New_York:20260318T110000
DTEND;TZID=America/New_York:20260318T123000
DTSTAMP:20260421T120146
CREATED:20260113T152437Z
LAST-MODIFIED:20260116T213826Z
UID:5476-1773831600-1773837000@universityoforange.org
SUMMARY:What's the Story? Memoir Writing Class - Winter 2026
DESCRIPTION:10-week virtual memoir class offered by UofO\, taught by developmental editor Susan Hasho \nThe class is held on Wednesdays 11:00am to 12:15pm on Zoom\, and will run January 21\, 2026 – March 25\, 2026. \nWhat’s the Story? A Memoir Writing Class \nDo you have some stories you’d like to tell? There may be stories about your life that you want to tell your children or grandchildren\, perhaps about another country or culture you came from or your parents came from. Was there an experience that changed your life or your neighborhood? How about if you were in the military and you want to share something about that? If you have a desire to share or describe anything that you are fascinated by\, care about or even want to change\, this class is a place to do that.\n \nFormat \nWhat’s the Story is a 10-week writing class that intends to provoke\, free and guide anyone to write a memoir that reflects their own unique voice and life experience. This is a workshop-style interactive course. Participants will take turns sharing their work and have opportunities to receive feedback and guidance from the instructor and the other participants. There is also time to discuss technical skills\, confront creative blocks\, and set writing goals. All writing is done outside of class at your own pace. \nLike all UofO events\, this class is offered for free\, but your tax-deductible donation goes a long way to cover the costs of delivering the course. \n**If you are interested in joining this class\, please email us at info@universityoforange.org to join the waitlist.** \nSusan Hasho is a developmental editor which is an editor involved in the mysterious process of enabling writers and anyone interested in writing to find their way through the maze of expectations\, judgment and even fear to find the true heart of what they want to write. She has trained and worked as an actor and writer\, and moved into the advertising field to work as a copy editor for advertising agencies and Fortune 500 companies. She began working with writers several years ago as an editor and it became her goal to teach a writing class that would enable people to be as free of self-criticism and inhibiting expectations as possible in order to write clearly and openly with joy.
URL:https://universityoforange.org/event/whats-the-story-memoir-writing-class-winter-2026/2026-03-18
LOCATION:Online
CATEGORIES:Collective Recovery,Maggie Ink/Bookbuilder Press
ATTACH;FMTTYPE=image/jpeg:https://universityoforange.org/wp-content/uploads/2022/08/42a483fb9320f1ce56f4d5890fdfae7f-3Bg1nT.tmp_.jpg
END:VEVENT
BEGIN:VEVENT
DTSTART;TZID=America/New_York:20260325T110000
DTEND;TZID=America/New_York:20260325T123000
DTSTAMP:20260421T120146
CREATED:20260113T152437Z
LAST-MODIFIED:20260116T213827Z
UID:5477-1774436400-1774441800@universityoforange.org
SUMMARY:What's the Story? Memoir Writing Class - Winter 2026
DESCRIPTION:10-week virtual memoir class offered by UofO\, taught by developmental editor Susan Hasho \nThe class is held on Wednesdays 11:00am to 12:15pm on Zoom\, and will run January 21\, 2026 – March 25\, 2026. \nWhat’s the Story? A Memoir Writing Class \nDo you have some stories you’d like to tell? There may be stories about your life that you want to tell your children or grandchildren\, perhaps about another country or culture you came from or your parents came from. Was there an experience that changed your life or your neighborhood? How about if you were in the military and you want to share something about that? If you have a desire to share or describe anything that you are fascinated by\, care about or even want to change\, this class is a place to do that.\n \nFormat \nWhat’s the Story is a 10-week writing class that intends to provoke\, free and guide anyone to write a memoir that reflects their own unique voice and life experience. This is a workshop-style interactive course. Participants will take turns sharing their work and have opportunities to receive feedback and guidance from the instructor and the other participants. There is also time to discuss technical skills\, confront creative blocks\, and set writing goals. All writing is done outside of class at your own pace. \nLike all UofO events\, this class is offered for free\, but your tax-deductible donation goes a long way to cover the costs of delivering the course. \n**If you are interested in joining this class\, please email us at info@universityoforange.org to join the waitlist.** \nSusan Hasho is a developmental editor which is an editor involved in the mysterious process of enabling writers and anyone interested in writing to find their way through the maze of expectations\, judgment and even fear to find the true heart of what they want to write. She has trained and worked as an actor and writer\, and moved into the advertising field to work as a copy editor for advertising agencies and Fortune 500 companies. She began working with writers several years ago as an editor and it became her goal to teach a writing class that would enable people to be as free of self-criticism and inhibiting expectations as possible in order to write clearly and openly with joy.
URL:https://universityoforange.org/event/whats-the-story-memoir-writing-class-winter-2026/2026-03-25
LOCATION:Online
CATEGORIES:Collective Recovery,Maggie Ink/Bookbuilder Press
ATTACH;FMTTYPE=image/jpeg:https://universityoforange.org/wp-content/uploads/2022/08/42a483fb9320f1ce56f4d5890fdfae7f-3Bg1nT.tmp_.jpg
END:VEVENT
END:VCALENDAR