BEGIN:VCALENDAR
VERSION:2.0
PRODID:-//University of Orange - ECPv5.14.1//NONSGML v1.0//EN
CALSCALE:GREGORIAN
METHOD:PUBLISH
X-WR-CALNAME:University of Orange
X-ORIGINAL-URL:https://universityoforange.org
X-WR-CALDESC:Events for University of Orange
REFRESH-INTERVAL;VALUE=DURATION:PT1H
X-Robots-Tag:noindex
X-PUBLISHED-TTL:PT1H
BEGIN:VTIMEZONE
TZID:America/New_York
BEGIN:DAYLIGHT
TZOFFSETFROM:-0500
TZOFFSETTO:-0400
TZNAME:EDT
DTSTART:20260308T070000
END:DAYLIGHT
BEGIN:STANDARD
TZOFFSETFROM:-0400
TZOFFSETTO:-0500
TZNAME:EST
DTSTART:20261101T060000
END:STANDARD
END:VTIMEZONE
BEGIN:VEVENT
DTSTART;TZID=America/New_York:20260126T190000
DTEND;TZID=America/New_York:20260126T200000
DTSTAMP:20260425T092851
CREATED:20260113T205456Z
LAST-MODIFIED:20260113T205456Z
UID:5478-1769454000-1769457600@universityoforange.org
SUMMARY:Introducing Latin American Liberation Theology
DESCRIPTION:Introducing Latin American Liberation Theology\n3-session Mini Course\, Jan. 26\, Feb. 2\, + Feb. 9\n7pm-8pm ET on Zoom \nLatin American Liberation Theology is one of the signal developments in spirituality and transformative politics in the post-WWII era. This three session mini-course will introduce the historical contexts\, community practices\, and basic concepts of Liberation Theology to all those interested in the liberatory and spiritual aspects of community-building. Leonardo Boff\, a Brazilian theologian\, captured the essence of the spirit of Liberation Theology when he wrote: “The process of liberation brings with it a profound conflict. Having the project be clear is not enough. What is necessary is a spirituality of resistance and of renewed hope to turn ever back to the struggle in the face of the defeats of the oppressed.” In a time of increasing conflict and struggle in our society\, join us to renew your sense of hope by learning from our Latin American friends and fellow sojourners in the struggle for a better world. \nEdgar Rivera Colón\, PhD\, is a medical anthropologist and ordained minister in The Fellowship of Affirming Ministries (TFAM) who provides pastoral accompaniment to tenant rights organizing groups\, labor unions\, and immigrant justice movements in Los Angeles. He offers spiritual direction for faith-based activists. He is a U of O board member and minister at Faith + Works Unitarian Universalist Congregation of Orange\, NJ. He first encountered the practice and theory of Liberation Theology when he lived and worked in El Salvador and Nicaragua in the mid-1980s as a young Jesuit. He lives in East LA in a queer Latina multigenerational household with his nieces\, their moms\, and fury canine nephews Biscuit and Hans Solo. \n\n  \nPlease register for this class here. 
URL:https://universityoforange.org/event/introducing-latin-american-liberation-theology/2026-01-26
LOCATION:Online
CATEGORIES:Collective Recovery
ATTACH;FMTTYPE=image/png:https://universityoforange.org/wp-content/uploads/2026/01/Introducing-Latin-American-Liberation-Theology.png
END:VEVENT
END:VCALENDAR