BEGIN:VCALENDAR
VERSION:2.0
PRODID:-//University of Orange - ECPv5.14.1//NONSGML v1.0//EN
CALSCALE:GREGORIAN
METHOD:PUBLISH
X-WR-CALNAME:University of Orange
X-ORIGINAL-URL:https://universityoforange.org
X-WR-CALDESC:Events for University of Orange
REFRESH-INTERVAL;VALUE=DURATION:PT1H
X-Robots-Tag:noindex
X-PUBLISHED-TTL:PT1H
BEGIN:VTIMEZONE
TZID:America/New_York
BEGIN:DAYLIGHT
TZOFFSETFROM:-0500
TZOFFSETTO:-0400
TZNAME:EDT
DTSTART:20250309T070000
END:DAYLIGHT
BEGIN:STANDARD
TZOFFSETFROM:-0400
TZOFFSETTO:-0500
TZNAME:EST
DTSTART:20251102T060000
END:STANDARD
END:VTIMEZONE
BEGIN:VEVENT
DTSTART;TZID=America/New_York:20251101T100000
DTEND;TZID=America/New_York:20251101T120000
DTSTAMP:20260424T115144
CREATED:20251029T204514Z
LAST-MODIFIED:20251029T204537Z
UID:5418-1761991200-1761998400@universityoforange.org
SUMMARY:Remembering Rosa Intergenerational Community Choir
DESCRIPTION:Join University of Orange’s Intergenerational Community Choir to sing in celebration of the 125th anniversary of Lift Every Voice and Sing! We will perform on this year’s 10th annual Remembering Rosa Concert for Peace on December 5th. Rehearsals are on Saturday November 1st and 15th at 10am\, and Thursday December 4th at 6:30PM\, all at Ebenezer Baptist Church in Orange. The final performance will be held on Friday\, December 5th at Heywood Avenue School’s Auditorium. \n  \nLearn more and register here.
URL:https://universityoforange.org/event/remembering-rosa-intergenerational-community-choir/2025-11-01
LOCATION:Ebenezer Baptist Church\, 153 William Street\, Orange\, 07050\, United States
CATEGORIES:Collective Recovery,In Orange,Music City
ATTACH;FMTTYPE=image/png:https://universityoforange.org/wp-content/uploads/2025/10/Join-the-Multi-Generational-Choir-2.png
END:VEVENT
BEGIN:VEVENT
DTSTART;TZID=America/New_York:20251104T173000
DTEND;TZID=America/New_York:20251104T183000
DTSTAMP:20260424T115145
CREATED:20250905T155451Z
LAST-MODIFIED:20250905T155451Z
UID:5342-1762277400-1762281000@universityoforange.org
SUMMARY:Steelpan Classes (Youth)
DESCRIPTION:Join the Orange Steel Band! \nYouth classes for Fall 2025 are currently open to students in middle school and high school. If you have a younger child interested please fill out the form and let us know. \nClasses are currently scheduled for Tuesday evenings at 5:30PM. Classes are currently slated to begin on Tuesday September 16th and run for 13 weeks (excluding Thanksgiving) through the end of December. \nThere will be performance opportunities throughout the Fall\, and two culminating performances in December. Dates. Save the dates: Saturday 9/27 (early afternoon)\, Friday 12/5 (evening)\, and Wednesday 12/17 (evening). \nClasses are pay-what-you-can. We suggest a sliding scale\, but donations of any amount are appreciated and the amount you can afford is not a factor in acceptance to the classes. Any questions about our pay-what-you-can model or inquiries about full scholarships can be sent to info@universityoforange.org \nREGISTER FOR STEELPAN CLASSES HERE
URL:https://universityoforange.org/event/steelpan-classes-youth/2025-11-04
LOCATION:The HUUB\, inc\, 35 Cleveland Street\, City of Orange\, NJ\, 07050\, United States
CATEGORIES:In Orange,Music City
ATTACH;FMTTYPE=image/jpeg:https://universityoforange.org/wp-content/uploads/2025/09/DSC016910.jpeg
END:VEVENT
BEGIN:VEVENT
DTSTART;TZID=America/New_York:20251111T173000
DTEND;TZID=America/New_York:20251111T183000
DTSTAMP:20260424T115145
CREATED:20250905T155451Z
LAST-MODIFIED:20250905T155451Z
UID:5343-1762882200-1762885800@universityoforange.org
SUMMARY:Steelpan Classes (Youth)
DESCRIPTION:Join the Orange Steel Band! \nYouth classes for Fall 2025 are currently open to students in middle school and high school. If you have a younger child interested please fill out the form and let us know. \nClasses are currently scheduled for Tuesday evenings at 5:30PM. Classes are currently slated to begin on Tuesday September 16th and run for 13 weeks (excluding Thanksgiving) through the end of December. \nThere will be performance opportunities throughout the Fall\, and two culminating performances in December. Dates. Save the dates: Saturday 9/27 (early afternoon)\, Friday 12/5 (evening)\, and Wednesday 12/17 (evening). \nClasses are pay-what-you-can. We suggest a sliding scale\, but donations of any amount are appreciated and the amount you can afford is not a factor in acceptance to the classes. Any questions about our pay-what-you-can model or inquiries about full scholarships can be sent to info@universityoforange.org \nREGISTER FOR STEELPAN CLASSES HERE
URL:https://universityoforange.org/event/steelpan-classes-youth/2025-11-11
LOCATION:The HUUB\, inc\, 35 Cleveland Street\, City of Orange\, NJ\, 07050\, United States
CATEGORIES:In Orange,Music City
ATTACH;FMTTYPE=image/jpeg:https://universityoforange.org/wp-content/uploads/2025/09/DSC016910.jpeg
END:VEVENT
BEGIN:VEVENT
DTSTART;TZID=America/New_York:20251115T100000
DTEND;TZID=America/New_York:20251115T120000
DTSTAMP:20260424T115145
CREATED:20251029T204514Z
LAST-MODIFIED:20251029T204537Z
UID:5423-1763200800-1763208000@universityoforange.org
SUMMARY:Remembering Rosa Intergenerational Community Choir
DESCRIPTION:Join University of Orange’s Intergenerational Community Choir to sing in celebration of the 125th anniversary of Lift Every Voice and Sing! We will perform on this year’s 10th annual Remembering Rosa Concert for Peace on December 5th. Rehearsals are on Saturday November 1st and 15th at 10am\, and Thursday December 4th at 6:30PM\, all at Ebenezer Baptist Church in Orange. The final performance will be held on Friday\, December 5th at Heywood Avenue School’s Auditorium. \n  \nLearn more and register here.
URL:https://universityoforange.org/event/remembering-rosa-intergenerational-community-choir/2025-11-15
LOCATION:Ebenezer Baptist Church\, 153 William Street\, Orange\, 07050\, United States
CATEGORIES:Collective Recovery,In Orange,Music City
ATTACH;FMTTYPE=image/png:https://universityoforange.org/wp-content/uploads/2025/10/Join-the-Multi-Generational-Choir-2.png
END:VEVENT
BEGIN:VEVENT
DTSTART;TZID=America/New_York:20251118T173000
DTEND;TZID=America/New_York:20251118T183000
DTSTAMP:20260424T115145
CREATED:20250905T155451Z
LAST-MODIFIED:20250905T155451Z
UID:5344-1763487000-1763490600@universityoforange.org
SUMMARY:Steelpan Classes (Youth)
DESCRIPTION:Join the Orange Steel Band! \nYouth classes for Fall 2025 are currently open to students in middle school and high school. If you have a younger child interested please fill out the form and let us know. \nClasses are currently scheduled for Tuesday evenings at 5:30PM. Classes are currently slated to begin on Tuesday September 16th and run for 13 weeks (excluding Thanksgiving) through the end of December. \nThere will be performance opportunities throughout the Fall\, and two culminating performances in December. Dates. Save the dates: Saturday 9/27 (early afternoon)\, Friday 12/5 (evening)\, and Wednesday 12/17 (evening). \nClasses are pay-what-you-can. We suggest a sliding scale\, but donations of any amount are appreciated and the amount you can afford is not a factor in acceptance to the classes. Any questions about our pay-what-you-can model or inquiries about full scholarships can be sent to info@universityoforange.org \nREGISTER FOR STEELPAN CLASSES HERE
URL:https://universityoforange.org/event/steelpan-classes-youth/2025-11-18
LOCATION:The HUUB\, inc\, 35 Cleveland Street\, City of Orange\, NJ\, 07050\, United States
CATEGORIES:In Orange,Music City
ATTACH;FMTTYPE=image/jpeg:https://universityoforange.org/wp-content/uploads/2025/09/DSC016910.jpeg
END:VEVENT
END:VCALENDAR